BEGIN:VCALENDAR
VERSION:2.0
PRODID:icalendar-ruby
CALSCALE:GREGORIAN
METHOD:PUBLISH
BEGIN:VEVENT
DTSTAMP:20260422T195523Z
UID:5-444462@synergizechurchnetwork.com
DTSTART:20261101T180000Z
DTEND:20261101T190000Z
CLASS:PUBLIC
CREATED:20260422T113615
DESCRIPTION:Sunday Worship
LAST-MODIFIED:20260422T113615
LOCATION:
SUMMARY:Sunday Worship
URL;VALUE=URI:https://synergizechurchnetwork.com/events/sunday-worship/2026
 -11-01
END:VEVENT
END:VCALENDAR
