BEGIN:VCALENDAR
VERSION:2.0
PRODID:icalendar-ruby
CALSCALE:GREGORIAN
METHOD:PUBLISH
BEGIN:VEVENT
DTSTAMP:20260422T183702Z
UID:5-444461@synergizechurchnetwork.com
DTSTART:20261025T170000Z
DTEND:20261025T180000Z
CLASS:PUBLIC
CREATED:20260422T113615
DESCRIPTION:Sunday Worship
LAST-MODIFIED:20260422T113615
LOCATION:
SUMMARY:Sunday Worship
URL;VALUE=URI:https://synergizechurchnetwork.com/events/sunday-worship/2026
 -10-25
END:VEVENT
END:VCALENDAR
