BEGIN:VCALENDAR
VERSION:2.0
PRODID:icalendar-ruby
CALSCALE:GREGORIAN
METHOD:PUBLISH
BEGIN:VEVENT
DTSTAMP:20260422T170541Z
UID:5-444138@synergizechurchnetwork.com
DTSTART:20261018T170000Z
DTEND:20261018T180000Z
CLASS:PUBLIC
CREATED:20260422T084143
DESCRIPTION:Sunday Worship
LAST-MODIFIED:20260422T084143
LOCATION:
SUMMARY:Sunday Worship
URL;VALUE=URI:https://synergizechurchnetwork.com/events/sunday-worship/2026
 -10-18
END:VEVENT
END:VCALENDAR
