BEGIN:VCALENDAR
VERSION:2.0
PRODID:icalendar-ruby
CALSCALE:GREGORIAN
METHOD:PUBLISH
BEGIN:VEVENT
DTSTAMP:20260422T124920Z
UID:5-443813@synergizechurchnetwork.com
DTSTART:20260927T170000Z
DTEND:20260927T180000Z
CLASS:PUBLIC
CREATED:20260422T054628
DESCRIPTION:Sunday Worship
LAST-MODIFIED:20260422T054628
LOCATION:
SUMMARY:Sunday Worship
URL;VALUE=URI:https://synergizechurchnetwork.com/events/sunday-worship/2026
 -09-27
END:VEVENT
END:VCALENDAR
