BEGIN:VCALENDAR
VERSION:2.0
PRODID:icalendar-ruby
CALSCALE:GREGORIAN
METHOD:PUBLISH
BEGIN:VEVENT
DTSTAMP:20260422T224500Z
UID:6-444841@synergizechurchnetwork.com
DTSTART:20261006T030000Z
DTEND:20261006T040000Z
CLASS:PUBLIC
CREATED:20260422T143145
DESCRIPTION:Join us as we boldly approach the throne of grace.  God is fai
 thful\, He always completes what He begins 1 Thessalonians 5:24.  If you 
 are unable to join\, feel free to share prayer requests to synergizechurch
 @gmail.com and put in the subject line\, "prayer requests.' 
LAST-MODIFIED:20260422T143145
LOCATION:Zoom\, email synergizechurch@gmail.com for the link
SUMMARY:Prayer Moment
URL;VALUE=URI:https://synergizechurchnetwork.com/events/prayer-moment/2026-
 10-05
ATTACH;FILENAME=6rju.jpg;FMTTYPE=image/jpeg:https://dq5pwpg1q8ru0.cloudfron
 t.net/2025/09/07/00/54/13/e25f5ffc-7bd4-46df-abbd-9ba25f8eb587/6rju.jpg
END:VEVENT
END:VCALENDAR
